BEGIN:VCALENDAR
VERSION:2.0
PRODID:-//Tasting with Matze - ECPv6.15.20//NONSGML v1.0//EN
CALSCALE:GREGORIAN
METHOD:PUBLISH
X-WR-CALNAME:Tasting with Matze
X-ORIGINAL-URL:https://tastingwithmatze.de
X-WR-CALDESC:Veranstaltungen für Tasting with Matze
REFRESH-INTERVAL;VALUE=DURATION:PT1H
X-Robots-Tag:noindex
X-PUBLISHED-TTL:PT1H
BEGIN:VTIMEZONE
TZID:UTC
BEGIN:STANDARD
TZOFFSETFROM:+0000
TZOFFSETTO:+0000
TZNAME:UTC
DTSTART:20250101T000000
END:STANDARD
END:VTIMEZONE
BEGIN:VEVENT
DTSTART;TZID=UTC:20260424T180000
DTEND;TZID=UTC:20260424T200000
DTSTAMP:20260425T170123
CREATED:20260204T150728Z
LAST-MODIFIED:20260329T074046Z
UID:2850-1777053600-1777060800@tastingwithmatze.de
SUMMARY:Whisky Tasting Bad Rappenau "Eine Reise durch die schottischen Whisky Regionen"
DESCRIPTION:Highlights im April\n\n✅ Thema: Eine Reise durch alle 6 Whisky-Regionen Schottlands \n✅ Zertifizierte Expertise: Geleitet von Matthias Mohra (Diplom Biersommelier & EWA Certified in Scotch Whisky) \n✅ 6 Premium-Drams: Lowlands\, Highlands\, Speyside\, Islands\, Campbeltown & Islay \n✅ Genuss-Paket: Inkl. aller Whiskys\, Wasser\, Brot und dreierlei Dips \n \n \n\n\n\n                \n            \n\nWas dich erwartet\nErkunde mit mir die geschmackliche Vielfalt Schottlands! Als Diplom Biersommelier und zertifizierter Experte der Edinburgh Whisky Academy führe ich dich fundiert und unterhaltsam durch die sechs großen Whisky-Regionen. \nVom sanften Gras-Aroma der Lowlands über die Honigsüße der Speyside bis hin zum maritimen Torfrauch von Islay – du lernst\, wie Herkunft\, Klima und Wasser den Whisky prägen. \nNeben dem fachkundigen Nosing erzähle ich dir echte Hintergrundgeschichten aus den Destillerien und erkläre dir die technischen Details der Produktion\, die den Charakter jedes Drams so einzigartig machen. \n \n \n \n\nSichere dir dein Ticket\nDie Plätze für diese schottische Rundreise sind auf maximal 15 Personen begrenzt. \n🥃\n        👉 Jetzt Schottland-Reise buchen \n(Sichere Abwicklung über Triviar)
URL:https://tastingwithmatze.de/event/whisky-tasting-bad-rappenau-april26/
LOCATION:Saline 1822 Hotel\, Salinenstraße 33\, Bad Rappenau\, 74906
CATEGORIES:Whisky Tastings
ATTACH;FMTTYPE=image/jpeg:https://tastingwithmatze.de/wp-content/uploads/2025/11/dylan-de-jonge-pe9T4ROjpzQ-unsplash.jpg
ORGANIZER;CN="Tasting with Matze":MAILTO:matze@tastingwithmatze.de
END:VEVENT
BEGIN:VEVENT
DTSTART;TZID=UTC:20260411T180000
DTEND;TZID=UTC:20260411T200000
DTSTAMP:20260425T170123
CREATED:20260125T151052Z
LAST-MODIFIED:20260327T160415Z
UID:2843-1775930400-1775937600@tastingwithmatze.de
SUMMARY:Bier Tasting in Eppingen
DESCRIPTION:Highlights im Überblick\n\n✅ Für jeden Fan: Perfekt für Einsteiger & Bierliebhaber geeignet \n✅ Profi-Moderation: Geleitet von Matthias Mohra (Diplom Biersommelier) \n✅ Vielfalt entdecken: Selektion aus Craft Bieren\, Klassikern & Spezialitäten \n✅ Rundum versorgt: Inkl. aller Biere\, Wasser und passender Snacks \n \n \n\n\n\n                \n            \n\nWas dich erwartet\nErlebe die unglaubliche Welt der Braukunst! Gemeinsam verkosten wir nationale und internationale Schätze wie Craft Biere\, Pils\, Pale Ale\, IPA oder Stout. \nDu lernst\, die feinen Unterschiede in Farbe\, Geruch und Geschmack professionell zu erkennen. Dazu gibt es Insider-Wissen zu Brautechniken\, Rohstoffen und den Geschichten hinter den Brauereien – locker\, ehrlich und ohne Fach-Chinesisch. \n \n \n \n\nIn deiner Teilnahme enthalten:\n\nProfessionelles Setup: Passende Verkostungsgläser für jeden Stil.\nBier-Vielfalt: Auswahl an Craft Beer\, Lager\, IPA\, Weizen & saisonalen Highlights.\nKulinarische Begleitung: Aromatische Snacks wie Brot\, Käse\, Salzgebäck oder Nüsse.\n\n\nSichere dir deinen Platz\nDie Plätze in Eppingen sind auf maximal 15 Personen begrenzt\, um eine familiäre Atmosphäre zu garantieren. \n🍺\n        👉 Jetzt Platz in Eppingen buchen \n(Buchung & Tickets direkt über Triviar) \n \n\nWo wir uns treffen\n📍 Eisenbahnstraße 14\, Eppingen
URL:https://tastingwithmatze.de/event/bier-tasting-in-eppingen-april26/
LOCATION:Getränkefachmarkt Scherer GmbH & Co. KG\, Eisenbahnstr. 14\, Eppingen\, 75031\, Germany
CATEGORIES:Bier Tastings
ATTACH;FMTTYPE=image/jpeg:https://tastingwithmatze.de/wp-content/uploads/2024/12/pexels-atomlaborblog-1718384-scaled.jpg
ORGANIZER;CN="Tasting with Matze":MAILTO:matze@tastingwithmatze.de
END:VEVENT
BEGIN:VEVENT
DTSTART;TZID=UTC:20260328T180000
DTEND;TZID=UTC:20260328T200000
DTSTAMP:20260425T170123
CREATED:20251206T112225Z
LAST-MODIFIED:20260329T074608Z
UID:2714-1774720800-1774728000@tastingwithmatze.de
SUMMARY:Whisky Tasting Bad Rappenau „Eine Reise durch die schottischen Whisky Regionen“
DESCRIPTION:Highlights\n\n\n\n\n\nFür Einsteiger & Whisky Liebhaber\nProfessionelle Whisky Verkostung\nInklusive aller Whiskys & Snacks\n\n\nWas dich erwartet\n\n\n\n\n\n\n\n  \nNach einer kurzen Einführung erfährst du\, worauf es beim Verkosten von Whisky ankommt – vom richtigen Riechen über das Probieren bis hin zum Erkennen verschiedener Aromen. \nGemeinsam verkosten wir eine Auswahl hochwertiger Whiskys wie Scotch\, Bourbon\, Irish & Co. Du lernst mehr über die Herstellung und Fassreifung der Whiskys und erfährst Wissenswertes zu regionalen Besonderheiten. \n\n\n\n\n\n\n\n\nPassend zu den Whiskys haben wir vor Ort eine Auswahl an Snacks\, mit denen du verschiedene Geschmackskombinationen ausprobieren kannst. \n  \n\n\nWas du an Materialien bekommst\n\n\n\n\n\n\n\nProfessionelles Tasting-Setup mit passenden Gläsern\nPipette oder Dropper zum Verdünnen und Freilegen feiner Aromen\nSelektion hochwertiger Whiskys wie z. B. Scotch\, Bourbon\, Rye\, Single Malt\nBrot & Dreierlei Dips\n\nBuche deinen Platz\nDas Tasting ist auf max. 15 Personen limitiert um eine familiäre Atmosphäre zu garantieren. Eine Buchung vorab ist zwingend erforderlich. Buche deinen Platz direkt bei Triviar hier: \nhttps://triviar.de/course/10534  \n  \n\n\n\n\n\n\n\n\n\nWo wir uns treffen\nSaline 1822 Hotel\, Salinenstraße 33\, Bad Rappenau
URL:https://tastingwithmatze.de/event/whisky-tasting-bad-rappenau-maerz26/
LOCATION:Saline 1822 Hotel\, Salinenstraße 33\, Bad Rappenau\, 74906
CATEGORIES:Whisky Tastings
ATTACH;FMTTYPE=image/jpeg:https://tastingwithmatze.de/wp-content/uploads/2025/11/dylan-de-jonge-pe9T4ROjpzQ-unsplash.jpg
ORGANIZER;CN="Tasting with Matze":MAILTO:matze@tastingwithmatze.de
END:VEVENT
BEGIN:VEVENT
DTSTART;TZID=UTC:20260320T193000
DTEND;TZID=UTC:20260320T213000
DTSTAMP:20260425T170123
CREATED:20251206T114123Z
LAST-MODIFIED:20260404T070648Z
UID:2730-1774035000-1774042200@tastingwithmatze.de
SUMMARY:Bier Tasting in Eppingen
DESCRIPTION:Highlights\n\n\n\n\nFür Einsteiger & Bierliebhaber\nProfessionelle Bier Verkostung\nInklusive aller Biere & Snacks\n\n\n\nWas dich erwartet\n\n\n\n\n\n\n\n\nNach einer kurzen Einführung erfährst du\, worauf es beim Bierverkosten ankommt – von den unterschiedlichen Biersorten\, der Auswahl richtiger Gläser bis zur optimalen Temperatur. \nGemeinsam verkosten wir verschiedene nationale und internationale Biersorten\, darunter Craft Biere\, Pils\, Pale Ale\, Weizen\, IPA oder Stout. Du lernst\, die feinen Unterschiede in Farbe\, Geruch und Geschmack zu erkennen und erfährst Wissenswertes zu Brautechniken\, Rohstoffen und Herkunft der Biere. \n\n\n\n\n\n\n\n\nPassend zu den Bieren haben wir vor Ort eine Auswahl an Snacks\, mit denen du verschiedene Geschmackskombinationen ausprobieren kannst. \n  \n\n\n\n\n\n\n\n\nWas du an Materialien bekommst\n\n\n\n\n\n\n\nProfessionelles Tasting-Setup mit passenden Gläsern\nAuswahl an Biersorten wie z. B. Craft Beer\, Lager\, Pale Ale\, IPA\, Weizen\, Stout & saisonale Spezialbiere\nAromatische Snacks wie Brot\, Käse\, Salzgebäck oder Nüsse\n\n  \nSicher dir deinen Platz\n\nDie Plätze beim Tasting sind streng auf 15 limitiert um eine familiäre Atmosphäre zu garantieren. Eine Buchung vorab ist zwingend erforderlich und auf Triviar unter folgendem Link möglich: \nhttps://triviar.de/course/10531 \n  \n\n\n\n\n\n\n\n\nWo wir uns treffen\nEisenbahnstraße 14\, Eppingen
URL:https://tastingwithmatze.de/event/bier-tasting-in-eppingen-mar26/
LOCATION:Getränkefachmarkt Scherer GmbH & Co. KG\, Eisenbahnstr. 14\, Eppingen\, 75031\, Germany
CATEGORIES:Bier Tastings
ATTACH;FMTTYPE=image/jpeg:https://tastingwithmatze.de/wp-content/uploads/2024/12/pexels-atomlaborblog-1718384-scaled.jpg
ORGANIZER;CN="Tasting with Matze":MAILTO:matze@tastingwithmatze.de
END:VEVENT
BEGIN:VEVENT
DTSTART;TZID=UTC:20260227T193000
DTEND;TZID=UTC:20260227T213000
DTSTAMP:20260425T170123
CREATED:20251206T114036Z
LAST-MODIFIED:20260404T070640Z
UID:2728-1772220600-1772227800@tastingwithmatze.de
SUMMARY:Bier Tasting in Eppingen
DESCRIPTION:Highlights\n\n\n\n\nFür Einsteiger & Bierliebhaber\nProfessionelle Bier Verkostung\nInklusive aller Biere & Snacks\n\n\n\nWas dich erwartet\n\n\n\n\n\n\n\n\nNach einer kurzen Einführung erfährst du\, worauf es beim Bierverkosten ankommt – von den unterschiedlichen Biersorten\, der Auswahl richtiger Gläser bis zur optimalen Temperatur. \nGemeinsam verkosten wir verschiedene nationale und internationale Biersorten\, darunter Craft Biere\, Pils\, Pale Ale\, Weizen\, IPA oder Stout. Du lernst\, die feinen Unterschiede in Farbe\, Geruch und Geschmack zu erkennen und erfährst Wissenswertes zu Brautechniken\, Rohstoffen und Herkunft der Biere. \n\n\n\n\n\n\n\n\nPassend zu den Bieren haben wir vor Ort eine Auswahl an Snacks\, mit denen du verschiedene Geschmackskombinationen ausprobieren kannst. \n  \n\n\n\n\n\n\n\n\nWas du an Materialien bekommst\n\n\n\n\n\n\n\nProfessionelles Tasting-Setup mit passenden Gläsern\nAuswahl an Biersorten wie z. B. Craft Beer\, Lager\, Pale Ale\, IPA\, Weizen\, Stout & saisonale Spezialbiere\nAromatische Snacks wie Brot\, Käse\, Salzgebäck oder Nüsse\n\n  \nSicher dir deinen Platz\n\nDie Plätze beim Tasting sind streng auf 15 limitiert um eine familiäre Atmosphäre zu garantieren. Eine Buchung vorab ist zwingend erforderlich und auf Triviar unter folgendem Link möglich: \nhttps://triviar.de/course/10531 \n  \n\n\n\n\n\n\n\n\nWo wir uns treffen\nEisenbahnstraße 14\, Eppingen
URL:https://tastingwithmatze.de/event/bier-tasting-in-eppingen-feb26/
LOCATION:Getränkefachmarkt Scherer GmbH & Co. KG\, Eisenbahnstr. 14\, Eppingen\, 75031\, Germany
CATEGORIES:Bier Tastings
ATTACH;FMTTYPE=image/jpeg:https://tastingwithmatze.de/wp-content/uploads/2024/12/pexels-atomlaborblog-1718384-scaled.jpg
ORGANIZER;CN="Tasting with Matze":MAILTO:matze@tastingwithmatze.de
END:VEVENT
BEGIN:VEVENT
DTSTART;TZID=UTC:20260221T180000
DTEND;TZID=UTC:20260221T200000
DTSTAMP:20260425T170123
CREATED:20251206T112141Z
LAST-MODIFIED:20260404T070632Z
UID:2712-1771696800-1771704000@tastingwithmatze.de
SUMMARY:Whisky Tasting Bad Rappenau
DESCRIPTION:Highlights\n\n\n\n\n\nFür Einsteiger & Whisky Liebhaber\nProfessionelle Whisky Verkostung\nInklusive aller Whiskys & Snacks\n\n\nWas dich erwartet\n\n\n\n\n\n\n\n\nNach einer kurzen Einführung erfährst du\, worauf es beim Verkosten von Whisky ankommt – vom richtigen Riechen über das Probieren bis hin zum Erkennen verschiedener Aromen. \nGemeinsam verkosten wir eine Auswahl hochwertiger Whiskys wie Scotch\, Bourbon\, Irish & Co. Du lernst mehr über die Herstellung und Fassreifung der Whiskys und erfährst Wissenswertes zu regionalen Besonderheiten. \n\n\n\n\n\n\n\n\nPassend zu den Whiskys haben wir vor Ort eine Auswahl an Snacks\, mit denen du verschiedene Geschmackskombinationen ausprobieren kannst. \n  \n\n\nWas du an Materialien bekommst\n\n\n\n\n\n\n\nProfessionelles Tasting-Setup mit passenden Gläsern\nPipette oder Dropper zum Verdünnen und Freilegen feiner Aromen\nSelektion hochwertiger Whiskys wie z. B. Scotch\, Bourbon\, Rye\, Single Malt\nBrot & Dreierlei Dips\n\n  \nBuche deinen Platz\nDas Tasting ist auf max. 15 Personen limitiert um eine familiäre Atmosphäre zu garantieren. Eine Buchung vorab ist zwingend erforderlich. Buche deinen Platz direkt bei Triviar hier: \nhttps://triviar.de/course/10534  \n  \n\n\n\n\n\n\n\n\n\nWo wir uns treffen\nSaline 1822 Hotel\, Salinenstraße 33\, Bad Rappenau
URL:https://tastingwithmatze.de/event/whisky-tasting-bad-rappenau-feb26/
LOCATION:Saline 1822 Hotel\, Salinenstraße 33\, Bad Rappenau\, 74906
CATEGORIES:Whisky Tastings
ATTACH;FMTTYPE=image/jpeg:https://tastingwithmatze.de/wp-content/uploads/2025/11/dylan-de-jonge-pe9T4ROjpzQ-unsplash.jpg
ORGANIZER;CN="Tasting with Matze":MAILTO:matze@tastingwithmatze.de
END:VEVENT
BEGIN:VEVENT
DTSTART;TZID=UTC:20260131T180000
DTEND;TZID=UTC:20260131T200000
DTSTAMP:20260425T170123
CREATED:20251206T113948Z
LAST-MODIFIED:20260404T070621Z
UID:2726-1769882400-1769889600@tastingwithmatze.de
SUMMARY:Bier Tasting in Eppingen
DESCRIPTION:Highlights\n\n\n\n\nFür Einsteiger & Bierliebhaber\nProfessionelle Bier Verkostung\nInklusive aller Biere & Snacks\n\n\n\nWas dich erwartet\n\n\n\n\n\n\n\n\nNach einer kurzen Einführung erfährst du\, worauf es beim Bierverkosten ankommt – von den unterschiedlichen Biersorten\, der Auswahl richtiger Gläser bis zur optimalen Temperatur. \nGemeinsam verkosten wir verschiedene nationale und internationale Biersorten\, darunter Craft Biere\, Pils\, Pale Ale\, Weizen\, IPA oder Stout. Du lernst\, die feinen Unterschiede in Farbe\, Geruch und Geschmack zu erkennen und erfährst Wissenswertes zu Brautechniken\, Rohstoffen und Herkunft der Biere. \n\n\n\n\n\n\n\n\nPassend zu den Bieren haben wir vor Ort eine Auswahl an Snacks\, mit denen du verschiedene Geschmackskombinationen ausprobieren kannst. \n  \n\n\n\n\n\n\n\n\nWas du an Materialien bekommst\n\n\n\n\n\n\n\nProfessionelles Tasting-Setup mit passenden Gläsern\nAuswahl an Biersorten wie z. B. Craft Beer\, Lager\, Pale Ale\, IPA\, Weizen\, Stout & saisonale Spezialbiere\nAromatische Snacks wie Brot\, Käse\, Salzgebäck oder Nüsse\n\n  \nSicher dir deinen Platz\n\nDie Plätze beim Tasting sind streng auf 15 limitiert um eine familiäre Atmosphäre zu garantieren. Eine Buchung vorab ist zwingend erforderlich und auf Triviar unter folgendem Link möglich: \nhttps://triviar.de/course/10531 \n  \n\n\n\n\n\n\n\n\nWo wir uns treffen\nEisenbahnstraße 14\, Eppingen
URL:https://tastingwithmatze.de/event/bier-tasting-in-eppingen-jan26/
LOCATION:Getränkefachmarkt Scherer GmbH & Co. KG\, Eisenbahnstr. 14\, Eppingen\, 75031\, Germany
CATEGORIES:Bier Tastings
ATTACH;FMTTYPE=image/jpeg:https://tastingwithmatze.de/wp-content/uploads/2024/12/pexels-atomlaborblog-1718384-scaled.jpg
ORGANIZER;CN="Tasting with Matze":MAILTO:matze@tastingwithmatze.de
END:VEVENT
BEGIN:VEVENT
DTSTART;TZID=UTC:20260124T180000
DTEND;TZID=UTC:20260124T200000
DTSTAMP:20260425T170123
CREATED:20251206T112001Z
LAST-MODIFIED:20260404T070610Z
UID:2709-1769277600-1769284800@tastingwithmatze.de
SUMMARY:Whisky Tasting in Bad Rappenau
DESCRIPTION:Highlights\n\n\n\n\n\nFür Einsteiger & Whisky Liebhaber\nProfessionelle Whisky Verkostung\nInklusive aller Whiskys & Snacks\n\n\nWas dich erwartet\n\n\n\n\n\n\n\n\nNach einer kurzen Einführung erfährst du\, worauf es beim Verkosten von Whisky ankommt – vom richtigen Riechen über das Probieren bis hin zum Erkennen verschiedener Aromen. \nGemeinsam verkosten wir eine Auswahl hochwertiger Whiskys wie Scotch\, Bourbon\, Irish & Co. Du lernst mehr über die Herstellung und Fassreifung der Whiskys und erfährst Wissenswertes zu regionalen Besonderheiten. \n\n\n\n\n\n\n\n\nPassend zu den Whiskys haben wir vor Ort eine Auswahl an Snacks\, mit denen du verschiedene Geschmackskombinationen ausprobieren kannst. \n  \n\n\nWas du an Materialien bekommst\n\n\n\n\n\n\n\nProfessionelles Tasting-Setup mit passenden Gläsern\nPipette oder Dropper zum Verdünnen und Freilegen feiner Aromen\nSelektion hochwertiger Whiskys wie z. B. Scotch\, Bourbon\, Rye\, Single Malt\nBrot & Dreierlei Dips\n\n  \n\n\n\n\n\n\n\n\n\nWo wir uns treffen\nSaline 1822 Hotel\, Salinenstraße 33\, Bad Rappenau \n  \nBuche deinen Platz\nDas Tasting ist auf max. 15 Personen limitiert um eine familiäre Atmosphäre zu garantieren. Eine Buchung vorab ist zwingend erforderlich. Buche deinen Platz direkt bei Triviar hier: \nhttps://triviar.de/course/10534 
URL:https://tastingwithmatze.de/event/whisky-tasting-in-bad-rappenau-jan26/
LOCATION:Saline 1822 Hotel\, Salinenstraße 33\, Bad Rappenau\, 74906
CATEGORIES:Whisky Tastings
ATTACH;FMTTYPE=image/jpeg:https://tastingwithmatze.de/wp-content/uploads/2025/11/dylan-de-jonge-pe9T4ROjpzQ-unsplash.jpg
ORGANIZER;CN="Tasting with Matze":MAILTO:matze@tastingwithmatze.de
END:VEVENT
END:VCALENDAR