BEGIN:VCALENDAR
VERSION:2.0
PRODID:-//Tasting with Matze - ECPv6.15.20//NONSGML v1.0//EN
CALSCALE:GREGORIAN
METHOD:PUBLISH
X-WR-CALNAME:Tasting with Matze
X-ORIGINAL-URL:https://tastingwithmatze.de
X-WR-CALDESC:Veranstaltungen für Tasting with Matze
REFRESH-INTERVAL;VALUE=DURATION:PT1H
X-Robots-Tag:noindex
X-PUBLISHED-TTL:PT1H
BEGIN:VTIMEZONE
TZID:UTC
BEGIN:STANDARD
TZOFFSETFROM:+0000
TZOFFSETTO:+0000
TZNAME:UTC
DTSTART:20250101T000000
END:STANDARD
END:VTIMEZONE
BEGIN:VEVENT
DTSTART;TZID=UTC:20260424T180000
DTEND;TZID=UTC:20260424T200000
DTSTAMP:20260423T171320
CREATED:20260204T150728Z
LAST-MODIFIED:20260329T074046Z
UID:2850-1777053600-1777060800@tastingwithmatze.de
SUMMARY:Whisky Tasting Bad Rappenau "Eine Reise durch die schottischen Whisky Regionen"
DESCRIPTION:Highlights im April\n\n✅ Thema: Eine Reise durch alle 6 Whisky-Regionen Schottlands \n✅ Zertifizierte Expertise: Geleitet von Matthias Mohra (Diplom Biersommelier & EWA Certified in Scotch Whisky) \n✅ 6 Premium-Drams: Lowlands\, Highlands\, Speyside\, Islands\, Campbeltown & Islay \n✅ Genuss-Paket: Inkl. aller Whiskys\, Wasser\, Brot und dreierlei Dips \n \n \n\n\n\n                \n            \n\nWas dich erwartet\nErkunde mit mir die geschmackliche Vielfalt Schottlands! Als Diplom Biersommelier und zertifizierter Experte der Edinburgh Whisky Academy führe ich dich fundiert und unterhaltsam durch die sechs großen Whisky-Regionen. \nVom sanften Gras-Aroma der Lowlands über die Honigsüße der Speyside bis hin zum maritimen Torfrauch von Islay – du lernst\, wie Herkunft\, Klima und Wasser den Whisky prägen. \nNeben dem fachkundigen Nosing erzähle ich dir echte Hintergrundgeschichten aus den Destillerien und erkläre dir die technischen Details der Produktion\, die den Charakter jedes Drams so einzigartig machen. \n \n \n \n\nSichere dir dein Ticket\nDie Plätze für diese schottische Rundreise sind auf maximal 15 Personen begrenzt. \n🥃\n        👉 Jetzt Schottland-Reise buchen \n(Sichere Abwicklung über Triviar)
URL:https://tastingwithmatze.de/event/whisky-tasting-bad-rappenau-april26/
LOCATION:Saline 1822 Hotel\, Salinenstraße 33\, Bad Rappenau\, 74906
CATEGORIES:Whisky Tastings
ATTACH;FMTTYPE=image/jpeg:https://tastingwithmatze.de/wp-content/uploads/2025/11/dylan-de-jonge-pe9T4ROjpzQ-unsplash.jpg
ORGANIZER;CN="Tasting with Matze":MAILTO:matze@tastingwithmatze.de
END:VEVENT
BEGIN:VEVENT
DTSTART;TZID=UTC:20260502T180000
DTEND;TZID=UTC:20260502T200000
DTSTAMP:20260423T171320
CREATED:20260204T150819Z
LAST-MODIFIED:20260404T070703Z
UID:2852-1777744800-1777752000@tastingwithmatze.de
SUMMARY:Whisky Tasting Bad Rappenau "Eine Reise um die Whisk(e)y Welt"
DESCRIPTION:Highlights im Mai\n\n✅ Thema: Große Reise um die Whisk(e)y-Welt \n✅ Zertifizierte Expertise: Diplom Biersommelier & EWA Certified in Scotch Whisky \n✅ Internationale Selektion: Scotch\, Irish Whiskey\, Bourbon & Welt-Raritäten \n✅ Genuss-Paket: Inkl. 6 Drams\, Wasser\, Brot und dreierlei Dips \n \n \n\n\n\n                \n            \n\nWas dich erwartet\nWhisky ist nicht gleich Whiskey! Im Mai verlassen wir die schottischen Küsten und erkunden die faszinierenden Unterschiede der globalen Destillierkunst. \nWarum schreibt sich der eine mit „e“ und der andere ohne? Was unterscheidet einen Kentucky Straight Bourbon von einem Irish Pot Still oder einem eleganten Japaner? Wir vergleichen Stile\, Rohstoffe und Kulturen. \nAls Absolvent der Edinburgh Whisky Academy teile ich mit dir nicht nur exklusive Tropfen\, sondern auch das Fachwissen über die verschiedenen Herstellungsmethoden weltweit – locker\, ehrlich und garantiert ohne trockene Theorie. \n \n \n \n\nSichere dir dein Ticket\nDie Plätze für diese Weltreise sind auf maximal 15 Personen begrenzt. \n🌎🥃\n        👉 Jetzt Weltreise für Mai buchen \n(Sichere Abwicklung über Triviar)
URL:https://tastingwithmatze.de/event/whisky-tasting-bad-rappenau/
LOCATION:Saline 1822 Hotel\, Salinenstraße 33\, Bad Rappenau\, 74906
CATEGORIES:Whisky Tastings
ATTACH;FMTTYPE=image/jpeg:https://tastingwithmatze.de/wp-content/uploads/2025/11/dylan-de-jonge-pe9T4ROjpzQ-unsplash.jpg
ORGANIZER;CN="Tasting with Matze":MAILTO:matze@tastingwithmatze.de
END:VEVENT
BEGIN:VEVENT
DTSTART;TZID=UTC:20260508T193000
DTEND;TZID=UTC:20260508T213000
DTSTAMP:20260423T171320
CREATED:20260125T151426Z
LAST-MODIFIED:20260423T091900Z
UID:2845-1778268600-1778275800@tastingwithmatze.de
SUMMARY:Bier Tasting in Eppingen
DESCRIPTION:Highlights im Überblick\n\n✅ Für jeden Fan: Perfekt für Einsteiger & Bierliebhaber geeignet \n✅ Profi-Moderation: Geleitet von Matthias Mohra (Diplom Biersommelier) \n✅ Vielfalt entdecken: Selektion aus Craft Bieren\, Klassikern & Spezialitäten \n✅ Rundum versorgt: Inkl. aller Biere\, Wasser und passender Snacks \n \n \n\n\n\n                \n            \n\nWas dich erwartet\nErlebe die unglaubliche Welt der Braukunst! Gemeinsam verkosten wir nationale und internationale Schätze wie Craft Biere\, Pils\, Pale Ale\, IPA oder Stout. \nDu lernst\, die feinen Unterschiede in Farbe\, Geruch und Geschmack professionell zu erkennen. Dazu gibt es Insider-Wissen zu Brautechniken\, Rohstoffen und den Geschichten hinter den Brauereien – locker\, ehrlich und ohne Fach-Chinesisch. \n \n \n \n\nIn deiner Teilnahme enthalten:\n\nProfessionelles Setup: Passende Verkostungsgläser für jeden Stil.\nBier-Vielfalt: Auswahl an Craft Beer\, Lager\, IPA\, Weizen & saisonalen Highlights.\nKulinarische Begleitung: Aromatische Snacks wie Brot\, Käse\, Salzgebäck oder Nüsse.\n\n\nSichere dir deinen Platz\nDie Plätze in Eppingen sind auf maximal 15 Personen begrenzt\, um eine familiäre Atmosphäre zu garantieren. \n🍺\n        👉 Jetzt Platz in Eppingen buchen \n(Buchung & Tickets direkt über Triviar) \n \n\nWo wir uns treffen\n📍 Eisenbahnstraße 14\, Eppingen
URL:https://tastingwithmatze.de/event/bier-tasting-in-eppingen/
LOCATION:Getränkefachmarkt Scherer GmbH & Co. KG\, Eisenbahnstr. 14\, Eppingen\, 75031\, Germany
CATEGORIES:Bier Tastings
ATTACH;FMTTYPE=image/jpeg:https://tastingwithmatze.de/wp-content/uploads/2024/12/pexels-atomlaborblog-1718384-scaled.jpg
ORGANIZER;CN="Tasting with Matze":MAILTO:matze@tastingwithmatze.de
END:VEVENT
BEGIN:VEVENT
DTSTART;TZID=UTC:20260529T180000
DTEND;TZID=UTC:20260529T200000
DTSTAMP:20260423T171320
CREATED:20260331T105052Z
LAST-MODIFIED:20260404T071301Z
UID:3563-1780077600-1780084800@tastingwithmatze.de
SUMMARY:Biertasting Belgische Bierwelt im Zigarrenhaus Friedrich Karlsruhe
DESCRIPTION:Highlights: Die belgische Bierwelt\n\n✅ Belgische Vielfalt: Verkostung von 6 ausgewählten Bierspezialitäten (Trappisten\, Wit\, Lambic & mehr) \n✅ Profi-Expertise: Geleitet von Matthias Mohra (Diplom Biersommelier & Tasting with Matze) \n✅ Exklusives Pairing: Optionales Zigarren-Paket für das ultimative Genusserlebnis \n✅ Rundum versorgt: Inkl. passender Snacks und einer Flasche Wasser pro Person \n \n \n\n\n\n                \n            \n\nBelgien: Das Mekka der Braukunst\nBelgien ist weltberühmt für seine jahrhundertealte Brautradition. Im stilvollen Ambiente des Zigarrenhaus Friedrich nehmen wir uns die Zeit\, diese flüssigen Schätze zu entdecken. Wir erkunden die Geheimnisse der Trappistenmönche und die komplexe Sensorik belgischer Starkbiere. \nDu lernst\, warum belgische Hefen so einzigartig sind und wie man die intensiven Aromen dieser Biere perfekt analysiert. Ein Abend für echte Genießer\, die das Besondere suchen. \n \n \n \n\nDas erwartet dich in Karlsruhe:\n\n6 belgische Premium-Biere: Eine kuratierte Auswahl von Klassikern bis Raritäten.\nSnacks & Wasser: Passende Knabbereien zur Neutralisation und Begleitung.\nZigarren-Option: Wer mag\, bucht für 20 € das Paket mit 4 abgestimmten Zigarren direkt dazu.\nWissen & Spaß: Hintergrundinfos zur belgischen Bierkultur – locker und fachkundig präsentiert.\n\n\nWähle dein Genuss-Paket\n\n\n                45 €Bier-Tasting pur\n            \n\n                65 €Bier- & Zigarren-Tasting\n            \n \n🇧🇪💨🍺\n        👉 Jetzt Platz in Karlsruhe buchen \n(Einfache Buchung & Abwicklung via Triviar) \n \n\nVeranstaltungsort\n📍 Zigarrenhaus Friedrich\, Vorholzstr. 25a\, 76137Karlsruhe
URL:https://tastingwithmatze.de/event/biertasting-belgische-bierwelt-im-zigarrenhaus-friedrich-karlsruhe/
LOCATION:Zigarrenhaus Friedrich\, Vorholzstr. 25a\, Karlsruhe\, 76137\, Germany
CATEGORIES:Bier Tastings
ATTACH;FMTTYPE=image/jpeg:https://tastingwithmatze.de/wp-content/uploads/2026/03/2026-04-04-09_10_36-Greenshot.jpg
ORGANIZER;CN="Tasting with Matze":MAILTO:matze@tastingwithmatze.de
END:VEVENT
BEGIN:VEVENT
DTSTART;TZID=UTC:20260605T180000
DTEND;TZID=UTC:20260605T200000
DTSTAMP:20260423T171320
CREATED:20260327T153937Z
LAST-MODIFIED:20260329T074152Z
UID:3416-1780682400-1780689600@tastingwithmatze.de
SUMMARY:Whisky Tasting Bad Rappenau "Eine Reise um die Whisk(e)y Welt"
DESCRIPTION:Highlights im Juni\n\n✅ Thema: Best of Whisk(e)y-Welt & Internationale Raritäten \n✅ Zertifizierte Expertise: Diplom Biersommelier & EWA Certified in Scotch Whisky \n✅ Premium Tasting: Ein Querschnitt durch die besten Destillerien weltweit \n✅ Genuss-Paket: Inkl. 6 Drams\, Wasser\, Brot und hausgemachten Dips \n \n \n\n\n\n                \n            \n\nWas dich erwartet\nDu konntest dich im Mai nicht entscheiden? Im Juni bringen wir die spannendsten Flaschen unserer Weltreise noch einmal auf den Tisch und ergänzen sie um exklusive Raritäten. \nWir schlagen die Brücke zwischen handwerklichen Traditionen und modernen Innovationen. Erlebe im direkten Vergleich\, wie unterschiedlich ein Single Malt\, ein Small Batch Bourbon oder ein rauchiger Islay-Vertreter performen. \nAls Absolvent der Edinburgh Whisky Academy begleite ich dich durch diesen abwechslungsreichen Abend. Freu dich auf tiefgehendes Fachwissen\, echte Insider-Storys und ein Tasting\, das die Vielfalt der Welt in sechs Gläsern einfängt. \n \n \n \n\nSichere dir dein Ticket\nKleine Gruppe\, großer Genuss: Die Plätze sind auf maximal 15 Personen begrenzt. \n🥂🥃\n        👉 Jetzt Termin für Juni buchen \n(Sichere Abwicklung über Triviar)
URL:https://tastingwithmatze.de/event/whisky-tasting-bad-rappenau-juni26/
LOCATION:Saline 1822 Hotel\, Salinenstraße 33\, Bad Rappenau\, 74906
CATEGORIES:Whisky Tastings
ATTACH;FMTTYPE=image/jpeg:https://tastingwithmatze.de/wp-content/uploads/2025/11/dylan-de-jonge-pe9T4ROjpzQ-unsplash.jpg
ORGANIZER;CN="Tasting with Matze":MAILTO:matze@tastingwithmatze.de
END:VEVENT
BEGIN:VEVENT
DTSTART;TZID=UTC:20260710T180000
DTEND;TZID=UTC:20260710T200000
DTSTAMP:20260423T171320
CREATED:20260421T104012Z
LAST-MODIFIED:20260421T104012Z
UID:3975-1783706400-1783713600@tastingwithmatze.de
SUMMARY:Whisky Tasting Bad Rappenau
DESCRIPTION:Sommer-Tasting im Juli\n\n✅ Termin: Freitag\, 10. Juli 2026 (18:00 – 20:00 Uhr) \n✅ Thema: Exklusive Überraschungsauswahl aus der Whisky-Welt \n✅ Zertifizierte Expertise: Diplom-Biersommelier & EWA Certified in Scotch Whisky \n✅ Genuss-Paket: Inkl. 6 Drams\, Wasser\, Brot und hausgemachten Dips \n \n \n\n\n\n                \n            \n\nWas dich erwartet\nLass dich überraschen! Für unser Tasting am 10. Juli stelle ich aktuell noch eine ganz besondere Auswahl an edlen Tropfen zusammen. Das genaue Motto bleibt vorerst mein Geheimnis\, aber eines ist sicher: Es wird aromatisch und extrem spannend. \nGanz egal\, in welche geschmackliche Richtung wir an diesem Sommerabend reisen – wir schlagen die Brücke zwischen handwerklichen Traditionen und modernen Innovationen. Erlebe im direkten Vergleich\, wie unterschiedlich verschiedene Fasstypen und Herkunftsländer die Whiskys prägen. \nAls Absolvent der Edinburgh Whisky Academy begleite ich dich durch diesen abwechslungsreichen Abend. Freu dich auf tiefgehendes Fachwissen\, echte Insider-Storys und ein Tasting\, das die Vielfalt der Welt in sechs Gläsern einfängt. \n \n \n \n\nSichere dir dein Ticket\nFreitag\, 10. Juli 2026 | 18:00 – 20:00 Uhr \nKleine Gruppe\, großer Genuss: Die Plätze sind auf maximal 15 Personen begrenzt. \n🥂🥃\n        👉 Jetzt Termin für Juli sichern \n(Sichere Abwicklung über Triviar)
URL:https://tastingwithmatze.de/event/whisky-tasting-bad-rappenau-juli-2026/
LOCATION:Saline 1822 Hotel\, Salinenstraße 33\, Bad Rappenau\, 74906
CATEGORIES:Whisky Tastings
ATTACH;FMTTYPE=image/jpeg:https://tastingwithmatze.de/wp-content/uploads/2025/11/dylan-de-jonge-pe9T4ROjpzQ-unsplash.jpg
ORGANIZER;CN="Tasting with Matze":MAILTO:matze@tastingwithmatze.de
END:VEVENT
BEGIN:VEVENT
DTSTART;TZID=UTC:20260717T193000
DTEND;TZID=UTC:20260717T220000
DTSTAMP:20260423T171320
CREATED:20260413T071021Z
LAST-MODIFIED:20260417T124037Z
UID:3766-1784316600-1784325600@tastingwithmatze.de
SUMMARY:Bier Tasting in Eppingen
DESCRIPTION:Highlights im Überblick\n\n✅ Für jeden Fan: Perfekt für Einsteiger & Bierliebhaber geeignet \n✅ Profi-Moderation: Geleitet von Matthias Mohra (Diplom Biersommelier) \n✅ Vielfalt entdecken: Selektion aus Craft Bieren\, Klassikern & Spezialitäten \n✅ Rundum versorgt: Inkl. aller Biere\, Wasser und passender Snacks \n \n \n\n\n\n                \n            \n\nWas dich erwartet\nErlebe die unglaubliche Welt der Braukunst! Gemeinsam verkosten wir nationale und internationale Schätze wie Craft Biere\, Pils\, Pale Ale\, IPA oder Stout. \nDu lernst\, die feinen Unterschiede in Farbe\, Geruch und Geschmack professionell zu erkennen. Dazu gibt es Insider-Wissen zu Brautechniken\, Rohstoffen und den Geschichten hinter den Brauereien – locker\, ehrlich und ohne Fach-Chinesisch. \n \n \n \n\nIn deiner Teilnahme enthalten:\n\nProfessionelles Setup: Passende Verkostungsgläser für jeden Stil.\nBier-Vielfalt: Auswahl an Craft Beer\, Lager\, IPA\, Weizen & saisonalen Highlights.\nKulinarische Begleitung: Aromatische Snacks wie Brot\, Käse\, Salzgebäck oder Nüsse.\n\n\nSichere dir deinen Platz\nDie Plätze in Eppingen sind auf maximal 15 Personen begrenzt\, um eine familiäre Atmosphäre zu garantieren. \n🍺\n        👉 Jetzt Platz in Eppingen buchen \n(Buchung & Tickets direkt über Triviar) \n \n\nWo wir uns treffen\n📍 Eisenbahnstraße 14\, Eppingen
URL:https://tastingwithmatze.de/event/bier-tasting-in-eppingen-juli-2026/
LOCATION:Getränkefachmarkt Scherer GmbH & Co. KG\, Eisenbahnstr. 14\, Eppingen\, 75031\, Germany
CATEGORIES:Bier Tastings
ATTACH;FMTTYPE=image/jpeg:https://tastingwithmatze.de/wp-content/uploads/2024/12/pexels-atomlaborblog-1718384-scaled.jpg
ORGANIZER;CN="Tasting with Matze":MAILTO:matze@tastingwithmatze.de
END:VEVENT
END:VCALENDAR